BEGIN:VCALENDAR
VERSION:2.0
PRODID:-//LEXIS project / LEXIS Platform - ECPv5.8.0//NONSGML v1.0//EN
CALSCALE:GREGORIAN
METHOD:PUBLISH
X-WR-CALNAME:LEXIS project / LEXIS Platform
X-ORIGINAL-URL:https://lexis-project.eu/web
X-WR-CALDESC:Events for LEXIS project / LEXIS Platform
BEGIN:VTIMEZONE
TZID:UTC
BEGIN:STANDARD
TZOFFSETFROM:+0000
TZOFFSETTO:+0000
TZNAME:UTC
DTSTART:20210101T000000
END:STANDARD
END:VTIMEZONE
BEGIN:VEVENT
DTSTART;VALUE=DATE:20210126
DTEND;VALUE=DATE:20210127
DTSTAMP:20260423T151539
CREATED:20210414T172448Z
LAST-MODIFIED:20210414T172529Z
UID:2455-1611619200-1611705599@lexis-project.eu
SUMMARY:CFD TRAF code GPU porting: needs\, results and applicability
DESCRIPTION:Techforum “CFD TRAF code GPU porting: needs\, results and applicability”
URL:https://lexis-project.eu/web/event/cfd-traf-code-gpu-porting-needs-results-and-applicability/
LOCATION:Digital
CATEGORIES:LEXIS Academy
ATTACH;FMTTYPE=image/jpeg:https://lexis-project.eu/web/wp-content/uploads/2021/04/Logo_Avio_Aero.jpg
END:VEVENT
END:VCALENDAR