BEGIN:VCALENDAR
VERSION:2.0
PRODID:-//LEXIS project / LEXIS Platform - ECPv5.8.0//NONSGML v1.0//EN
CALSCALE:GREGORIAN
METHOD:PUBLISH
X-WR-CALNAME:LEXIS project / LEXIS Platform
X-ORIGINAL-URL:https://lexis-project.eu/web
X-WR-CALDESC:Events for LEXIS project / LEXIS Platform
BEGIN:VTIMEZONE
TZID:Europe/Paris
BEGIN:DAYLIGHT
TZOFFSETFROM:+0100
TZOFFSETTO:+0200
TZNAME:CEST
DTSTART:20220327T010000
END:DAYLIGHT
BEGIN:STANDARD
TZOFFSETFROM:+0200
TZOFFSETTO:+0100
TZNAME:CET
DTSTART:20221030T010000
END:STANDARD
END:VTIMEZONE
BEGIN:VEVENT
DTSTART;VALUE=DATE:20221121
DTEND;VALUE=DATE:20221124
DTSTAMP:20260420T045800
CREATED:20220807T170034Z
LAST-MODIFIED:20220807T170251Z
UID:2956-1668988800-1669247999@lexis-project.eu
SUMMARY:EBDVF 2022
DESCRIPTION:European Big Data Value Forum 2022 is the flagship event of the European Big Data Value and Data-Driven AI Research and Innovation community. Come and see our LEXIS Platform booth!
URL:https://lexis-project.eu/web/event/ebdvf-2022/
LOCATION:Prague\, Czech Republic\, Prague\, Czech Republic
CATEGORIES:External events
ATTACH;FMTTYPE=image/png:https://lexis-project.eu/web/wp-content/uploads/2022/08/EBDVF-2022.png
END:VEVENT
END:VCALENDAR