BEGIN:VCALENDAR
VERSION:2.0
PRODID:-//LEXIS project / LEXIS Platform - ECPv5.8.0//NONSGML v1.0//EN
CALSCALE:GREGORIAN
METHOD:PUBLISH
X-WR-CALNAME:LEXIS project / LEXIS Platform
X-ORIGINAL-URL:https://lexis-project.eu/web
X-WR-CALDESC:Events for LEXIS project / LEXIS Platform
BEGIN:VTIMEZONE
TZID:UTC
BEGIN:STANDARD
TZOFFSETFROM:+0000
TZOFFSETTO:+0000
TZNAME:UTC
DTSTART:20210101T000000
END:STANDARD
END:VTIMEZONE
BEGIN:VEVENT
DTSTART;VALUE=DATE:20210624
DTEND;VALUE=DATE:20210703
DTSTAMP:20260420T050742
CREATED:20191017T122329Z
LAST-MODIFIED:20210703T051150Z
UID:1298-1624492800-1625270399@lexis-project.eu
SUMMARY:ISC High Performance 2021
DESCRIPTION:Thank you for stopping by our booth at ISC 2021!\nOur prize draw is closed. Three winners obtained wonderful prizes. Congratulations! \n \n\nTrue Wireless Earbuds Sony WF-XB700\n\n  \n\nExternal Hard Drive Adata HV620S (2TB)\n\n \n\nPower Pack Hama PD-27W60 (26800 mAh)\n\n \nWe are looking forward to see you at our booth at SC 2021! \n 
URL:https://lexis-project.eu/web/event/isc/
LOCATION:Digital Event
CATEGORIES:External events
ATTACH;FMTTYPE=image/png:https://lexis-project.eu/web/wp-content/uploads/2019/10/isc-high-performance-MwiS-logo.png
END:VEVENT
END:VCALENDAR