BEGIN:VCALENDAR
VERSION:2.0
PRODID:-//LEXIS project / LEXIS Platform - ECPv5.8.0//NONSGML v1.0//EN
CALSCALE:GREGORIAN
METHOD:PUBLISH
X-WR-CALNAME:LEXIS project / LEXIS Platform
X-ORIGINAL-URL:https://lexis-project.eu/web
X-WR-CALDESC:Events for LEXIS project / LEXIS Platform
BEGIN:VTIMEZONE
TZID:UTC
BEGIN:STANDARD
TZOFFSETFROM:+0000
TZOFFSETTO:+0000
TZNAME:UTC
DTSTART:20200101T000000
END:STANDARD
END:VTIMEZONE
BEGIN:VEVENT
DTSTART;TZID=UTC:20201201T080000
DTEND;TZID=UTC:20201204T170000
DTSTAMP:20260420T082834
CREATED:20191017T110716Z
LAST-MODIFIED:20191017T110716Z
UID:1284-1606809600-1607101200@lexis-project.eu
SUMMARY:Pollutec/CAE Conference
DESCRIPTION:
URL:https://lexis-project.eu/web/event/pollutec-cae-conference/
LOCATION:Lyon\, France\, Lyon\, France
CATEGORIES:LEXIS Academy
END:VEVENT
END:VCALENDAR