BEGIN:VCALENDAR
VERSION:2.0
PRODID:-//LEXIS project / LEXIS Platform - ECPv5.8.0//NONSGML v1.0//EN
CALSCALE:GREGORIAN
METHOD:PUBLISH
X-WR-CALNAME:LEXIS project / LEXIS Platform
X-ORIGINAL-URL:https://lexis-project.eu/web
X-WR-CALDESC:Events for LEXIS project / LEXIS Platform
BEGIN:VTIMEZONE
TZID:America/New_York
BEGIN:DAYLIGHT
TZOFFSETFROM:-0500
TZOFFSETTO:-0400
TZNAME:EDT
DTSTART:20220313T070000
END:DAYLIGHT
BEGIN:STANDARD
TZOFFSETFROM:-0400
TZOFFSETTO:-0500
TZNAME:EST
DTSTART:20221106T060000
END:STANDARD
END:VTIMEZONE
BEGIN:VEVENT
DTSTART;VALUE=DATE:20221113
DTEND;VALUE=DATE:20221119
DTSTAMP:20260420T031942
CREATED:20220606T123303Z
LAST-MODIFIED:20221106T141723Z
UID:2827-1668297600-1668815999@lexis-project.eu
SUMMARY:SC 2022
DESCRIPTION:Supercomputing 2022\, The International Conference for High Performance Computing\, Networking\, Storage\, and Analysis. The LEXIS Platform will be presented at a common booth of IT4Innovations and other European projects #320. Come and see what is new in the LEXIS platform!
URL:https://lexis-project.eu/web/event/sc-2022/
LOCATION:Kay Bailey Hutchison Convention Center\, Dallas\, United States
CATEGORIES:External events
ATTACH;FMTTYPE=image/png:https://lexis-project.eu/web/wp-content/uploads/2022/06/Snimek-obrazovky-2022-06-06-v-14.31.13.png
END:VEVENT
END:VCALENDAR