BEGIN:VCALENDAR
VERSION:2.0
PRODID:-//LEXIS project / LEXIS Platform - ECPv5.8.0//NONSGML v1.0//EN
CALSCALE:GREGORIAN
METHOD:PUBLISH
X-WR-CALNAME:LEXIS project / LEXIS Platform
X-ORIGINAL-URL:https://lexis-project.eu/web
X-WR-CALDESC:Events for LEXIS project / LEXIS Platform
BEGIN:VTIMEZONE
TZID:UTC
BEGIN:STANDARD
TZOFFSETFROM:+0000
TZOFFSETTO:+0000
TZNAME:UTC
DTSTART:20200101T000000
END:STANDARD
END:VTIMEZONE
BEGIN:VEVENT
DTSTART;TZID=UTC:20201109T080000
DTEND;TZID=UTC:20201119T170000
DTSTAMP:20260420T132727
CREATED:20201023T082741Z
LAST-MODIFIED:20201023T084007Z
UID:1998-1604908800-1605805200@lexis-project.eu
SUMMARY:SC20
DESCRIPTION:Days Held\nTutorials: Monday–Tuesday\, November 9–10\, 2020\nWorkshops: Wednesday–Friday\, November 11–13\, 2020\nProgram: Monday–Thursday\, November 16–19\, 2020 \nEach year\, SC provides the leading technical program for professionals and students in the HPC community\, as measured by impact\, at the highest academic and professional standards. The Program is designed to share best practices in areas such as: algorithms; applications; architectures and networks; clouds and distributed computing; data analytics\, visualization\, and storage; machine learning and HPC; performance; programming systems; system software; and state of the practice in large-scale deployment and integration.
URL:https://lexis-project.eu/web/event/sc20/
LOCATION:Virtual event
CATEGORIES:LEXIS Academy
END:VEVENT
END:VCALENDAR